BEGIN:VCALENDAR
VERSION:2.0
PRODID:spatie/icalendar-generator
DESCRIPTION:Events from Joe Ed&amp;#039\;s
X-WR-CALDESC:Events from Joe Ed&amp;#039\;s
REFRESH-INTERVAL;VALUE=DURATION:PT1440M
X-PUBLISHED-TTL:PT1440M
BEGIN:VTIMEZONE
TZID:Etc/GMT+0
BEGIN:STANDARD
DTSTART:20250719T160000Z
TZOFFSETFROM:+0000
TZOFFSETTO:+0000
END:STANDARD
END:VTIMEZONE
BEGIN:VTIMEZONE
TZID:UTC
BEGIN:STANDARD
DTSTART:20250723T141009Z
TZOFFSETFROM:+0000
TZOFFSETTO:+0000
END:STANDARD
END:VTIMEZONE
BEGIN:VEVENT
UID:17-4
DTSTAMP:20260419T141009Z
SUMMARY:Ladies Night
LOCATION:Joe Ed\\'s 112 North Houston Street  GRANBURY Texas 76048
ORGANIZER;CN=Eliza:MAILTO:goencore22@p3plzcpnl507155.prod.phx3.secureserver
 .net
RRULE:FREQ=WEEKLY;UNTIL=20261028T000000Z
DTSTART;TZID=Etc/GMT+0:20260415T160000
DTEND;TZID=Etc/GMT+0:20260415T170000
X-ALT-DESC;FMTTYPE=TEXT/HTML:
CATEGORIES:Music
URL;VALUE=URI:https://joeeds.com/mc-events/ladies-night-2/?mc_id=17
METHOD:PUBLISH
END:VEVENT
END:VCALENDAR